BEGIN:VCALENDAR
VERSION:2.0
PRODID:-//Bezirkslandfrauenverein Ziegenhain - ECPv6.11.0.1//NONSGML v1.0//EN
CALSCALE:GREGORIAN
METHOD:PUBLISH
X-WR-CALNAME:Bezirkslandfrauenverein Ziegenhain
X-ORIGINAL-URL:https://bezirkslandfrauen-ziegenhain.de
X-WR-CALDESC:Veranstaltungen für Bezirkslandfrauenverein Ziegenhain
REFRESH-INTERVAL;VALUE=DURATION:PT1H
X-Robots-Tag:noindex
X-PUBLISHED-TTL:PT1H
BEGIN:VTIMEZONE
TZID:Europe/Berlin
BEGIN:DAYLIGHT
TZOFFSETFROM:+0100
TZOFFSETTO:+0200
TZNAME:CEST
DTSTART:20250330T010000
END:DAYLIGHT
BEGIN:STANDARD
TZOFFSETFROM:+0200
TZOFFSETTO:+0100
TZNAME:CET
DTSTART:20251026T010000
END:STANDARD
END:VTIMEZONE
BEGIN:VEVENT
DTSTART;TZID=Europe/Berlin:20250326T190000
DTEND;TZID=Europe/Berlin:20250326T213000
DTSTAMP:20260423T125721
CREATED:20250325T144743Z
LAST-MODIFIED:20250325T144804Z
UID:1761-1743015600-1743024600@bezirkslandfrauen-ziegenhain.de
SUMMARY:BLF Ziegenhain - Vorbereitungstreffen für das Jubiläumsfest mit allen OVs
DESCRIPTION:Wir treffen uns zur Planung. \nZum Ideenaustausch. \nusw. \nvon jedem OV möglichst 2 Personen
URL:https://bezirkslandfrauen-ziegenhain.de/event/blf-ziegenhain-vorbereitungstreffen-fuer-das-jubilaeumsfest-mit-allen-ovs/
LOCATION:gürre Stubb\, Bernsburger Str. 1\, Willingshausen\, Hessen\, 34628\, Germany
ATTACH;FMTTYPE=image/jpeg:https://bezirkslandfrauen-ziegenhain.de/wp-content/uploads/2025/02/garden-party-4543302_1280-e1739623127854.jpg
END:VEVENT
END:VCALENDAR