BEGIN:VCALENDAR
VERSION:2.0
PRODID:-//Bezirkslandfrauenverein Ziegenhain - ECPv6.11.0.1//NONSGML v1.0//EN
CALSCALE:GREGORIAN
METHOD:PUBLISH
X-WR-CALNAME:Bezirkslandfrauenverein Ziegenhain
X-ORIGINAL-URL:https://bezirkslandfrauen-ziegenhain.de
X-WR-CALDESC:Veranstaltungen für Bezirkslandfrauenverein Ziegenhain
REFRESH-INTERVAL;VALUE=DURATION:PT1H
X-Robots-Tag:noindex
X-PUBLISHED-TTL:PT1H
BEGIN:VTIMEZONE
TZID:Europe/Berlin
BEGIN:DAYLIGHT
TZOFFSETFROM:+0100
TZOFFSETTO:+0200
TZNAME:CEST
DTSTART:20250330T010000
END:DAYLIGHT
BEGIN:STANDARD
TZOFFSETFROM:+0200
TZOFFSETTO:+0100
TZNAME:CET
DTSTART:20251026T010000
END:STANDARD
END:VTIMEZONE
BEGIN:VEVENT
DTSTART;TZID=Europe/Berlin:20250509T170000
DTEND;TZID=Europe/Berlin:20250509T200000
DTSTAMP:20260423T121852
CREATED:20250331T075128Z
LAST-MODIFIED:20250331T075128Z
UID:1803-1746810000-1746820800@bezirkslandfrauen-ziegenhain.de
SUMMARY:OV Willingshausen - Kräuterwanderung mit Gisela Kalbfleisch
DESCRIPTION:Treffen am Dorfplatz (Wasenbergerstrasse 2-3)
URL:https://bezirkslandfrauen-ziegenhain.de/event/ov-willingshausen-kraeuterwanderung-mit-gisela-kalbfleisch/
LOCATION:Dorfplatz Willingshausen\, Wasenberger Straße 2-3\, Willingshausen\, 34628\, Germany
END:VEVENT
END:VCALENDAR