BEGIN:VCALENDAR
VERSION:2.0
PRODID:-//Bezirkslandfrauenverein Ziegenhain - ECPv6.11.0.1//NONSGML v1.0//EN
CALSCALE:GREGORIAN
METHOD:PUBLISH
X-WR-CALNAME:Bezirkslandfrauenverein Ziegenhain
X-ORIGINAL-URL:https://bezirkslandfrauen-ziegenhain.de
X-WR-CALDESC:Veranstaltungen für Bezirkslandfrauenverein Ziegenhain
REFRESH-INTERVAL;VALUE=DURATION:PT1H
X-Robots-Tag:noindex
X-PUBLISHED-TTL:PT1H
BEGIN:VTIMEZONE
TZID:Europe/Berlin
BEGIN:DAYLIGHT
TZOFFSETFROM:+0100
TZOFFSETTO:+0200
TZNAME:CEST
DTSTART:20250330T010000
END:DAYLIGHT
BEGIN:STANDARD
TZOFFSETFROM:+0200
TZOFFSETTO:+0100
TZNAME:CET
DTSTART:20251026T010000
END:STANDARD
END:VTIMEZONE
BEGIN:VEVENT
DTSTART;TZID=Europe/Berlin:20250515T160000
DTEND;TZID=Europe/Berlin:20250515T173000
DTSTAMP:20260423T123832
CREATED:20250406T182901Z
LAST-MODIFIED:20250507T143951Z
UID:1836-1747324800-1747330200@bezirkslandfrauen-ziegenhain.de
SUMMARY:OV Frielendorf - Erste Hilfe Praxis Kurs für Kinder (Alter 7 bis 8 Jahre) fällt aus
DESCRIPTION:Erste Hilfe Praxis Kurs mit Frau Annika Lohr. Frau Lohr ist gelernte Krankenschwester und hat eine Fortbildung als Pflasterpass-Kursleiterin gemacht. Damit darf sie Kinder ab 4 Jahren zu Ersthelfern ausbilden. Starten möchten wir mit dem Goldkurs\, Alter 7/8 Jahre\, bei Interesse können Kurse für jüngere Kinder folgen. \nAnnis kleine Helden bietet mit Pflasterpass ein einzigartiges Konzept für die Resilienz Förderung im Kindesalter\, das Erste Hilfe und frühkindliche Bildung miteinander verbindet. Informationen: www.anniskleinehelden.de \nKosten: 26\,50 Euro pro Kind \nVerbindliche Anmeldung ab sofort bei M. Seidl 05684/7512 \nund M. Trescher 05684/1386 ( begrenzte Teilnehmerzahl) \n 
URL:https://bezirkslandfrauen-ziegenhain.de/event/ov-frielendorf-erste-hilfe-praxis-kurs-fuer-kinder-alter-7-bis-8-jahre/
LOCATION:Dietrich-Bonhoeffer-Haus\, Frielendorf
END:VEVENT
END:VCALENDAR