BEGIN:VCALENDAR
VERSION:2.0
PRODID:-//Bezirkslandfrauenverein Ziegenhain - ECPv6.11.0.1//NONSGML v1.0//EN
CALSCALE:GREGORIAN
METHOD:PUBLISH
X-ORIGINAL-URL:https://bezirkslandfrauen-ziegenhain.de
X-WR-CALDESC:Veranstaltungen für Bezirkslandfrauenverein Ziegenhain
REFRESH-INTERVAL;VALUE=DURATION:PT1H
X-Robots-Tag:noindex
X-PUBLISHED-TTL:PT1H
BEGIN:VTIMEZONE
TZID:Europe/Berlin
BEGIN:DAYLIGHT
TZOFFSETFROM:+0100
TZOFFSETTO:+0200
TZNAME:CEST
DTSTART:20250330T010000
END:DAYLIGHT
BEGIN:STANDARD
TZOFFSETFROM:+0200
TZOFFSETTO:+0100
TZNAME:CET
DTSTART:20251026T010000
END:STANDARD
END:VTIMEZONE
BEGIN:VEVENT
DTSTART;TZID=Europe/Berlin:20250713T120000
DTEND;TZID=Europe/Berlin:20250713T170000
DTSTAMP:20260423T103252
CREATED:20250210T130402Z
LAST-MODIFIED:20250612T200434Z
UID:1550-1752408000-1752426000@bezirkslandfrauen-ziegenhain.de
SUMMARY:60 Jahre Bezirkslandfrauenverein Ziegenhain
DESCRIPTION:Markt und Workshops \n \n  \n  \n  \n  \nEssen : Esspunkt Schlein Ziegenhain \n  \nTrinken : Brauerei Haass \n \n  \n  \n  \n  \n  \nMusik : Sistergold
URL:https://bezirkslandfrauen-ziegenhain.de/event/60-jahre-bezirkslandfrauenverein-ziegenhain/
LOCATION:Dittershausen
ATTACH;FMTTYPE=image/jpeg:https://bezirkslandfrauen-ziegenhain.de/wp-content/uploads/2025/03/sistergold-e1749758519836.jpg
END:VEVENT
END:VCALENDAR