BEGIN:VCALENDAR
VERSION:2.0
PRODID:-//Bezirkslandfrauenverein Ziegenhain - ECPv6.11.0.1//NONSGML v1.0//EN
CALSCALE:GREGORIAN
METHOD:PUBLISH
X-WR-CALNAME:Bezirkslandfrauenverein Ziegenhain
X-ORIGINAL-URL:https://bezirkslandfrauen-ziegenhain.de
X-WR-CALDESC:Veranstaltungen für Bezirkslandfrauenverein Ziegenhain
REFRESH-INTERVAL;VALUE=DURATION:PT1H
X-Robots-Tag:noindex
X-PUBLISHED-TTL:PT1H
BEGIN:VTIMEZONE
TZID:Europe/Berlin
BEGIN:DAYLIGHT
TZOFFSETFROM:+0100
TZOFFSETTO:+0200
TZNAME:CEST
DTSTART:20260329T010000
END:DAYLIGHT
BEGIN:STANDARD
TZOFFSETFROM:+0200
TZOFFSETTO:+0100
TZNAME:CET
DTSTART:20261025T010000
END:STANDARD
END:VTIMEZONE
BEGIN:VEVENT
DTSTART;VALUE=DATE:20260419
DTEND;VALUE=DATE:20260420
DTSTAMP:20260423T102949
CREATED:20260210T155934Z
LAST-MODIFIED:20260210T155934Z
UID:2249-1776556800-1776643199@bezirkslandfrauen-ziegenhain.de
SUMMARY:OV Gilserberg - Mountainbike Rennen
DESCRIPTION:Wir verkaufen den Kuchen!
URL:https://bezirkslandfrauen-ziegenhain.de/event/ov-gilserberg-mountainbike-rennen/
LOCATION:Hochlandhalle Gilserberg
END:VEVENT
BEGIN:VEVENT
DTSTART;TZID=Europe/Berlin:20260419T140000
DTEND;TZID=Europe/Berlin:20260419T170000
DTSTAMP:20260423T102949
CREATED:20260203T124741Z
LAST-MODIFIED:20260203T124741Z
UID:2167-1776607200-1776618000@bezirkslandfrauen-ziegenhain.de
SUMMARY:OV Schwarzenborn - LandFrauen Café
DESCRIPTION:
URL:https://bezirkslandfrauen-ziegenhain.de/event/ov-schwarzenborn-landfrauen-cafe/
LOCATION:Ahles Porrhüss Schwarzenborn\, Schwarzenborn
ATTACH;FMTTYPE=image/jpeg:https://bezirkslandfrauen-ziegenhain.de/wp-content/uploads/2026/02/4-Landfrauen-Cafe-1-scaled.jpeg
END:VEVENT
END:VCALENDAR