BEGIN:VCALENDAR
VERSION:2.0
PRODID:-//Bezirkslandfrauenverein Ziegenhain - ECPv6.11.0.1//NONSGML v1.0//EN
CALSCALE:GREGORIAN
METHOD:PUBLISH
X-WR-CALNAME:Bezirkslandfrauenverein Ziegenhain
X-ORIGINAL-URL:https://bezirkslandfrauen-ziegenhain.de
X-WR-CALDESC:Veranstaltungen für Bezirkslandfrauenverein Ziegenhain
REFRESH-INTERVAL;VALUE=DURATION:PT1H
X-Robots-Tag:noindex
X-PUBLISHED-TTL:PT1H
BEGIN:VTIMEZONE
TZID:Europe/Berlin
BEGIN:DAYLIGHT
TZOFFSETFROM:+0100
TZOFFSETTO:+0200
TZNAME:CEST
DTSTART:20260329T010000
END:DAYLIGHT
BEGIN:STANDARD
TZOFFSETFROM:+0200
TZOFFSETTO:+0100
TZNAME:CET
DTSTART:20261025T010000
END:STANDARD
END:VTIMEZONE
BEGIN:VEVENT
DTSTART;TZID=Europe/Berlin:20260423T193000
DTEND;TZID=Europe/Berlin:20260423T210000
DTSTAMP:20260423T121110
CREATED:20260317T132714Z
LAST-MODIFIED:20260317T132714Z
UID:2263-1776972600-1776978000@bezirkslandfrauen-ziegenhain.de
SUMMARY:OV - Ziegenhain Ernährungsvortrag: "Nährstoffe\, die auf der Zunge tanzen"
DESCRIPTION:Vortrag und praktischer Kurs mit Ernährungsfachfrau Christina Schlemmer
URL:https://bezirkslandfrauen-ziegenhain.de/event/ov-ziegenhain-ernaehrungsvortrag-naehrstoffe-die-auf-der-zunge-tanzen/
LOCATION:DGH Röhrshain\, Röhrhain\, 34613
CATEGORIES:Vortrag
ATTACH;FMTTYPE=image/jpeg:https://bezirkslandfrauen-ziegenhain.de/wp-content/uploads/2026/01/Vortrag-rotated.jpg
END:VEVENT
END:VCALENDAR