BEGIN:VCALENDAR
VERSION:2.0
PRODID:-//Bezirkslandfrauenverein Ziegenhain - ECPv6.11.0.1//NONSGML v1.0//EN
CALSCALE:GREGORIAN
METHOD:PUBLISH
X-WR-CALNAME:Bezirkslandfrauenverein Ziegenhain
X-ORIGINAL-URL:https://bezirkslandfrauen-ziegenhain.de
X-WR-CALDESC:Veranstaltungen für Bezirkslandfrauenverein Ziegenhain
REFRESH-INTERVAL;VALUE=DURATION:PT1H
X-Robots-Tag:noindex
X-PUBLISHED-TTL:PT1H
BEGIN:VTIMEZONE
TZID:Europe/Berlin
BEGIN:DAYLIGHT
TZOFFSETFROM:+0100
TZOFFSETTO:+0200
TZNAME:CEST
DTSTART:20250330T010000
END:DAYLIGHT
BEGIN:STANDARD
TZOFFSETFROM:+0200
TZOFFSETTO:+0100
TZNAME:CET
DTSTART:20251026T010000
END:STANDARD
END:VTIMEZONE
BEGIN:VEVENT
DTSTART;TZID=Europe/Berlin:20250306T200000
DTEND;TZID=Europe/Berlin:20250306T213000
DTSTAMP:20260419T151851
CREATED:20250218T194026Z
LAST-MODIFIED:20250218T194518Z
UID:1670-1741291200-1741296600@bezirkslandfrauen-ziegenhain.de
SUMMARY:OV Berfa „Gesundheit aus der Natur“ Gisbert Friedrich
DESCRIPTION:
URL:https://bezirkslandfrauen-ziegenhain.de/event/ov-berfa-gesundheit-aus-der-natur-gisbert-friedrich/
LOCATION:Gasthaus Riffer\, Kasseler Straße 38\, Alsfeld-Berfa\, 36304
END:VEVENT
BEGIN:VEVENT
DTSTART;TZID=Europe/Berlin:20250307T110000
DTEND;TZID=Europe/Berlin:20250307T180000
DTSTAMP:20260419T151851
CREATED:20250215T123041Z
LAST-MODIFIED:20250215T123041Z
UID:1640-1741345200-1741370400@bezirkslandfrauen-ziegenhain.de
SUMMARY:Aktionsstand zum Equal Pay Day 2025 des Frauenbüros Schwalm Eder in der Schwalm Galerie
DESCRIPTION:Weitere Informationen hier
URL:https://bezirkslandfrauen-ziegenhain.de/event/aktionsstand-zum-equal-pay-day-2025-des-frauenbueros-schwalm-eder-in-der-schwalm-galerie/
LOCATION:Schwalm Galerie\, An der Vogelsangmühle 2\, Schwalmstadt\, 34613
ATTACH;FMTTYPE=image/jpeg:https://bezirkslandfrauen-ziegenhain.de/wp-content/uploads/2025/02/equal-pay.jpg
END:VEVENT
BEGIN:VEVENT
DTSTART;TZID=Europe/Berlin:20250308T100000
DTEND;TZID=Europe/Berlin:20250308T130000
DTSTAMP:20260419T151851
CREATED:20250303T095740Z
LAST-MODIFIED:20250303T101418Z
UID:1713-1741428000-1741438800@bezirkslandfrauen-ziegenhain.de
SUMMARY:OV Sachsenhausen Kirchenbänke grundieren
DESCRIPTION:Kirchenbänke grundieren unter Anleitung von Claudia Müller und Ninette Schley. Die Bänke stammen aus der katholischen Kirche in Gilserberg und sollen in der Unterführung aufgestellt werden. \n 
URL:https://bezirkslandfrauen-ziegenhain.de/event/ov-sachsenhausen-kirchenbaenke-grundieren/
LOCATION:DGH Sachsenhausen\, Hofackerstrasse 11\, Gilserberg Sachsenhausen\, 34630\, Germany
ATTACH;FMTTYPE=image/jpeg:https://bezirkslandfrauen-ziegenhain.de/wp-content/uploads/2025/03/028-Kirchenbaenke.jpg
END:VEVENT
BEGIN:VEVENT
DTSTART;TZID=Europe/Berlin:20250310T180000
DTEND;TZID=Europe/Berlin:20250310T200000
DTSTAMP:20260419T151851
CREATED:20250215T123238Z
LAST-MODIFIED:20250215T123238Z
UID:1644-1741629600-1741636800@bezirkslandfrauen-ziegenhain.de
SUMMARY:Online Seminar für Frauen: Künstliche Intelligenz für Einsteigerinnen
DESCRIPTION:Eine Veranstaltung des Frauenbüros Schwalm-Eder \nweitere Informationen hier
URL:https://bezirkslandfrauen-ziegenhain.de/event/online-seminar-fuer-frauen-kuenstliche-intelligenz-fuer-einsteigerinnen/
LOCATION:Online
ATTACH;FMTTYPE=image/jpeg:https://bezirkslandfrauen-ziegenhain.de/wp-content/uploads/2025/02/KI.jpg
END:VEVENT
BEGIN:VEVENT
DTSTART;TZID=Europe/Berlin:20250313T140000
DTEND;TZID=Europe/Berlin:20250313T180000
DTSTAMP:20260419T151851
CREATED:20250303T100126Z
LAST-MODIFIED:20250303T100126Z
UID:1717-1741874400-1741888800@bezirkslandfrauen-ziegenhain.de
SUMMARY:OV Sachsenhausen Halbtagesausflug nach Neustadt
DESCRIPTION:14.15 Uhr Abfahrt am Dorfplatz. \nWir bilden Fahrgemeinschaften. \nCa. 15 Uhr Stadtführung\, \n16 Uhr Kaffeetrinken im Kunstcafe \nAnmeldung bis 10.03. bei Gerlinde George 06696-515
URL:https://bezirkslandfrauen-ziegenhain.de/event/ov-sachsenhausen-halbtagesausflug-nach-neustadt/
ATTACH;FMTTYPE=image/jpeg:https://bezirkslandfrauen-ziegenhain.de/wp-content/uploads/2025/03/Junker-Hansen-Turm.jpg
END:VEVENT
BEGIN:VEVENT
DTSTART;TZID=Europe/Berlin:20250313T190000
DTEND;TZID=Europe/Berlin:20250313T210000
DTSTAMP:20260419T151851
CREATED:20250218T191817Z
LAST-MODIFIED:20250325T155543Z
UID:1651-1741892400-1741899600@bezirkslandfrauen-ziegenhain.de
SUMMARY:OV Ottrau Ernährungsvortrag mit Kostproben „Hochverarbeitet – Hochgenuss?“
DESCRIPTION:mit Ernährungsfachfrau Christina Schlemmer \n  \nAnmeldungen bis 05. März 2025 bei \nRenate Siebert\, Telefon: 06639/733 (AB) \n 
URL:https://bezirkslandfrauen-ziegenhain.de/event/ov-ottrau-vortrag-zum-thema-hochverarbeitet-hochgenuss-mit-ernaehrungsfachfrau-christina-schlemmer/
LOCATION:DGH Ottrau-Weißenborn\, Schulweg 3\, Ottrau-Ortsteil Weißenborn\, Hessen\, 34633\, Germany
ATTACH;FMTTYPE=image/jpeg:https://bezirkslandfrauen-ziegenhain.de/wp-content/uploads/2025/02/purchasing-4981245_1280-e1742918105207.jpg
END:VEVENT
BEGIN:VEVENT
DTSTART;TZID=Europe/Berlin:20250314T193000
DTEND;TZID=Europe/Berlin:20250314T210000
DTSTAMP:20260419T151851
CREATED:20250312T130221Z
LAST-MODIFIED:20250312T130221Z
UID:1755-1741980600-1741986000@bezirkslandfrauen-ziegenhain.de
SUMMARY:OV Frielendorf Landfrauen Chorprobe
DESCRIPTION:Unsere nächste Chor-Probe findet um 19:30 Uhr statt. \nInteressierte Sängerinnen sind gerne eingeladen\, an unseren Proben teilzunehmen. \n  \n  \n\n\n\nAnsprechpartner\nDominik Werner\, 0173-6664309
URL:https://bezirkslandfrauen-ziegenhain.de/event/ov-frielendorf-landfrauen-chorprobe/
LOCATION:Dietrich-Bonhoeffer-Haus\, Frielendorf
END:VEVENT
BEGIN:VEVENT
DTSTART;TZID=Europe/Berlin:20250318T190000
DTEND;TZID=Europe/Berlin:20250318T235900
DTSTAMP:20260419T151851
CREATED:20250221T160044Z
LAST-MODIFIED:20250303T101537Z
UID:1698-1742324400-1742342340@bezirkslandfrauen-ziegenhain.de
SUMMARY:OV Itzenhain Ernährungsvortrag „Unsere wunderbare Welt im Darm“
DESCRIPTION:Frau Christina Schlemmer referiert über das Thema \n„Unsere wunderbare Welt im Darm“ \nLandfrauen aus Itzenhain\, Sebbeterode und Sachsenhausen sind dazu eingeladen
URL:https://bezirkslandfrauen-ziegenhain.de/event/ov-itzenhain-ernaehrungsvortrag-2/
LOCATION:DGH Itzenhain
ATTACH;FMTTYPE=image/jpeg:https://bezirkslandfrauen-ziegenhain.de/wp-content/uploads/2025/02/ibs-5308379_1280-e1739623023839.jpg
END:VEVENT
BEGIN:VEVENT
DTSTART;TZID=Europe/Berlin:20250320T190000
DTEND;TZID=Europe/Berlin:20250320T220000
DTSTAMP:20260419T151851
CREATED:20250210T122148Z
LAST-MODIFIED:20250215T121319Z
UID:1536-1742497200-1742508000@bezirkslandfrauen-ziegenhain.de
SUMMARY:BLF Jahreshauptversammlung
DESCRIPTION:
URL:https://bezirkslandfrauen-ziegenhain.de/event/jahreshauptversammlung-blv/
ATTACH;FMTTYPE=image/jpeg:https://bezirkslandfrauen-ziegenhain.de/wp-content/uploads/2025/02/bees-4126064_1280-e1759081700459.jpg
END:VEVENT
BEGIN:VEVENT
DTSTART;TZID=Europe/Berlin:20250321T190000
DTEND;TZID=Europe/Berlin:20250321T210000
DTSTAMP:20260419T151851
CREATED:20250218T193358Z
LAST-MODIFIED:20250218T193358Z
UID:1662-1742583600-1742590800@bezirkslandfrauen-ziegenhain.de
SUMMARY:OV Frielendorf Jahreshauptversammlung
DESCRIPTION:Tagesordnung wird noch bekannt gegeben \n  \nMarianne Trescher\, 05684-1386
URL:https://bezirkslandfrauen-ziegenhain.de/event/ov-frielendorf-jahreshauptversammlung/
LOCATION:Hotel Hassia\, Frielendorf
END:VEVENT
BEGIN:VEVENT
DTSTART;TZID=Europe/Berlin:20250322T100000
DTEND;TZID=Europe/Berlin:20250322T170000
DTSTAMP:20260419T151851
CREATED:20250218T194646Z
LAST-MODIFIED:20250218T194646Z
UID:1676-1742637600-1742662800@bezirkslandfrauen-ziegenhain.de
SUMMARY:OV Berfa Osterkrone wickeln und schmücken
DESCRIPTION:(bei Bergs in der Schmiede)\n!!!Wir bitten um Grünmaterial!!!
URL:https://bezirkslandfrauen-ziegenhain.de/event/ov-berfa-osterkrone-wickeln-und-schmuecken/
END:VEVENT
BEGIN:VEVENT
DTSTART;TZID=Europe/Berlin:20250326T190000
DTEND;TZID=Europe/Berlin:20250326T213000
DTSTAMP:20260419T151851
CREATED:20250325T144743Z
LAST-MODIFIED:20250325T144804Z
UID:1761-1743015600-1743024600@bezirkslandfrauen-ziegenhain.de
SUMMARY:BLF Ziegenhain - Vorbereitungstreffen für das Jubiläumsfest mit allen OVs
DESCRIPTION:Wir treffen uns zur Planung. \nZum Ideenaustausch. \nusw. \nvon jedem OV möglichst 2 Personen
URL:https://bezirkslandfrauen-ziegenhain.de/event/blf-ziegenhain-vorbereitungstreffen-fuer-das-jubilaeumsfest-mit-allen-ovs/
LOCATION:gürre Stubb\, Bernsburger Str. 1\, Willingshausen\, Hessen\, 34628\, Germany
ATTACH;FMTTYPE=image/jpeg:https://bezirkslandfrauen-ziegenhain.de/wp-content/uploads/2025/02/garden-party-4543302_1280-e1739623127854.jpg
END:VEVENT
BEGIN:VEVENT
DTSTART;TZID=Europe/Berlin:20250327T193000
DTEND;TZID=Europe/Berlin:20250327T220000
DTSTAMP:20260419T151851
CREATED:20250325T143512Z
LAST-MODIFIED:20250325T143937Z
UID:1758-1743103800-1743112800@bezirkslandfrauen-ziegenhain.de
SUMMARY:OV Frielendorf - Landfrauenchor Probe
DESCRIPTION:Unsere nächste Chor-Probe findet um 19:30 Uhr statt. \nInteressierte Sängerinnen sind gerne eingeladen\, an unseren Proben teilzunehmen. \n  \nDominik Werner\, 0173-6664309
URL:https://bezirkslandfrauen-ziegenhain.de/event/ov-frielendorf-landfrauenchor-probe-2/
LOCATION:Dietrich-Bonhoeffer-Haus\, Frielendorf
ATTACH;FMTTYPE=image/jpeg:https://bezirkslandfrauen-ziegenhain.de/wp-content/uploads/2025/03/easter-eggs-7827347_1280-e1742913554465.jpg
END:VEVENT
BEGIN:VEVENT
DTSTART;TZID=Europe/Berlin:20250331T000000
DTEND;TZID=Europe/Berlin:20250331T000000
DTSTAMP:20260419T151851
CREATED:20250331T071043Z
LAST-MODIFIED:20250331T071043Z
UID:1711-1743379200-1743379200@bezirkslandfrauen-ziegenhain.de
SUMMARY:OV Sachsenhausen Kirchenbänke grundieren
DESCRIPTION:Kirchenbänke grundieren unter Anleitung von Claudia Müller und Ninette Schley. Die Bänke stammen aus der katholischen Kirche in Gilserberg und sollen in der Unterführung aufgestellt werden.
URL:https://bezirkslandfrauen-ziegenhain.de/event/ov-sachsenhausen-kirchenbaenke-grundieren-2/
END:VEVENT
END:VCALENDAR